Package: BloodGen3Module Version: 1.14.0 Command: /Library/Frameworks/R.framework/Resources/bin/R CMD INSTALL BloodGen3Module StartedAt: 2025-03-31 16:29:27 -0400 (Mon, 31 Mar 2025) EndedAt: 2025-03-31 16:30:29 -0400 (Mon, 31 Mar 2025) EllapsedTime: 61.7 seconds RetCode: 0 Status: OK