Package: BloodGen3Module Version: 1.14.0 Command: rm -rf BloodGen3Module.buildbin-libdir && mkdir BloodGen3Module.buildbin-libdir && /Users/biocbuild/BBS/utils/build-universal.sh BloodGen3Module_1.14.0.tar.gz /Library/Frameworks/R.framework/Resources/bin/R BloodGen3Module.buildbin-libdir StartedAt: 2025-04-01 11:30:18 -0400 (Tue, 01 Apr 2025) EndedAt: 2025-04-01 11:31:22 -0400 (Tue, 01 Apr 2025) EllapsedTime: 64.0 seconds RetCode: 0 Status: OK PackageFile: BloodGen3Module_1.14.0.tgz PackageFileSize: 240.6 KiB