Package: Biostrings Version: 2.74.1 Command: /home/biocbuild/R/R/bin/R CMD INSTALL Biostrings StartedAt: 2025-03-31 20:18:38 -0000 (Mon, 31 Mar 2025) EndedAt: 2025-03-31 20:19:20 -0000 (Mon, 31 Mar 2025) EllapsedTime: 41.5 seconds RetCode: 0 Status: OK