Package: Biostrings Version: 2.74.1 Command: /home/biocbuild/R/R/bin/R CMD check --install=check:Biostrings.install-out.txt --library=/home/biocbuild/R/R/site-library --no-vignettes --timings Biostrings_2.74.1.tar.gz StartedAt: 2025-04-01 04:34:00 -0000 (Tue, 01 Apr 2025) EndedAt: 2025-04-01 04:43:51 -0000 (Tue, 01 Apr 2025) EllapsedTime: 590.6 seconds RetCode: 0 Status: WARNINGS CheckDir: Biostrings.Rcheck Warnings: 1