Package: Biostrings Version: 2.74.1 Command: /Library/Frameworks/R.framework/Resources/bin/R CMD INSTALL Biostrings StartedAt: 2025-03-31 15:11:45 -0400 (Mon, 31 Mar 2025) EndedAt: 2025-03-31 15:12:51 -0400 (Mon, 31 Mar 2025) EllapsedTime: 66.2 seconds RetCode: 0 Status: OK