Package: Biostrings Version: 2.74.1 Command: /Library/Frameworks/R.framework/Resources/bin/R CMD check --install=check:Biostrings.install-out.txt --library=/Library/Frameworks/R.framework/Resources/library --no-vignettes --timings Biostrings_2.74.1.tar.gz StartedAt: 2025-04-01 12:20:01 -0400 (Tue, 01 Apr 2025) EndedAt: 2025-04-01 12:32:53 -0400 (Tue, 01 Apr 2025) EllapsedTime: 772.3 seconds RetCode: 0 Status: WARNINGS CheckDir: Biostrings.Rcheck Warnings: 1