Package: BiocWorkflowTools Version: 1.32.0 Command: /home/biocbuild/R/R/bin/R CMD INSTALL BiocWorkflowTools StartedAt: 2025-03-31 20:44:33 -0000 (Mon, 31 Mar 2025) EndedAt: 2025-03-31 20:44:37 -0000 (Mon, 31 Mar 2025) EllapsedTime: 4.4 seconds RetCode: 0 Status: OK