Package: BiocWorkflowTools Version: 1.32.0 Command: /Library/Frameworks/R.framework/Resources/bin/R CMD check --install=check:BiocWorkflowTools.install-out.txt --library=/Library/Frameworks/R.framework/Resources/library --no-vignettes --timings BiocWorkflowTools_1.32.0.tar.gz StartedAt: 2025-03-31 23:54:18 -0400 (Mon, 31 Mar 2025) EndedAt: 2025-03-31 23:55:11 -0400 (Mon, 31 Mar 2025) EllapsedTime: 52.6 seconds RetCode: 0 Status: OK CheckDir: BiocWorkflowTools.Rcheck Warnings: 0