Package: BiocWorkflowTools Version: 1.32.0 Command: rm -rf BiocWorkflowTools.buildbin-libdir && mkdir BiocWorkflowTools.buildbin-libdir && /Users/biocbuild/BBS/utils/build-universal.sh BiocWorkflowTools_1.32.0.tar.gz /Library/Frameworks/R.framework/Resources/bin/R BiocWorkflowTools.buildbin-libdir StartedAt: 2025-04-01 11:29:15 -0400 (Tue, 01 Apr 2025) EndedAt: 2025-04-01 11:29:24 -0400 (Tue, 01 Apr 2025) EllapsedTime: 8.7 seconds RetCode: 0 Status: OK PackageFile: BiocWorkflowTools_1.32.0.tgz PackageFileSize: 688.3 KiB