Package: BiocVersion Version: 3.20.0 Command: /home/biocbuild/R/R/bin/R CMD INSTALL BiocVersion StartedAt: 2025-03-31 20:11:45 -0000 (Mon, 31 Mar 2025) EndedAt: 2025-03-31 20:11:49 -0000 (Mon, 31 Mar 2025) EllapsedTime: 3.9 seconds RetCode: 0 Status: OK