Package: BiocStyle Version: 2.34.0 Command: /home/biocbuild/R/R/bin/R CMD check --install=check:BiocStyle.install-out.txt --library=/home/biocbuild/R/R/site-library --no-vignettes --timings BiocStyle_2.34.0.tar.gz StartedAt: 2025-04-01 04:17:15 -0000 (Tue, 01 Apr 2025) EndedAt: 2025-04-01 04:18:24 -0000 (Tue, 01 Apr 2025) EllapsedTime: 69.1 seconds RetCode: 0 Status: OK CheckDir: BiocStyle.Rcheck Warnings: 0