Package: BiocStyle Version: 2.34.0 Command: F:\biocbuild\bbs-3.20-bioc\R\bin\R.exe CMD check --no-multiarch --install=check:BiocStyle.install-out.txt --library=F:\biocbuild\bbs-3.20-bioc\R\library --no-vignettes --timings BiocStyle_2.34.0.tar.gz StartedAt: 2025-03-31 23:19:49 -0400 (Mon, 31 Mar 2025) EndedAt: 2025-03-31 23:22:51 -0400 (Mon, 31 Mar 2025) EllapsedTime: 181.8 seconds RetCode: 0 Status: OK CheckDir: BiocStyle.Rcheck Warnings: 0