Package: BiocSklearn Version: 1.28.0 Command: chmod a+r BiocSklearn -R && F:\biocbuild\bbs-3.20-bioc\R\bin\R.exe CMD build --keep-empty-dirs --no-resave-data BiocSklearn StartedAt: 2025-03-31 17:37:31 -0400 (Mon, 31 Mar 2025) EndedAt: 2025-03-31 17:39:38 -0400 (Mon, 31 Mar 2025) EllapsedTime: 126.9 seconds RetCode: 0 Status: OK PackageFile: BiocSklearn_1.28.0.tar.gz PackageFileSize: 32.52 MiB