Package: BiocSklearn Version: 1.28.0 Command: rm -rf BiocSklearn.buildbin-libdir && mkdir BiocSklearn.buildbin-libdir && F:\biocbuild\bbs-3.20-bioc\R\bin\R.exe CMD INSTALL --build --library=BiocSklearn.buildbin-libdir BiocSklearn_1.28.0.tar.gz StartedAt: 2025-04-01 07:45:39 -0400 (Tue, 01 Apr 2025) EndedAt: 2025-04-01 07:46:23 -0400 (Tue, 01 Apr 2025) EllapsedTime: 43.8 seconds RetCode: 0 Status: OK PackageFile: BiocSklearn_1.28.0.zip PackageFileSize: 32.73 MiB