Package: BiocSingular Version: 1.22.0 Command: /home/biocbuild/R/R/bin/R CMD check --install=check:BiocSingular.install-out.txt --library=/home/biocbuild/R/R/site-library --no-vignettes --timings BiocSingular_1.22.0.tar.gz StartedAt: 2025-04-01 04:16:50 -0000 (Tue, 01 Apr 2025) EndedAt: 2025-04-01 04:33:31 -0000 (Tue, 01 Apr 2025) EllapsedTime: 1000.9 seconds RetCode: 0 Status: OK CheckDir: BiocSingular.Rcheck Warnings: 0