Package: BiocSingular Version: 1.22.0 Command: /home/biocbuild/bbs-3.20-bioc/R/bin/R CMD build --keep-empty-dirs --no-resave-data --md5 BiocSingular StartedAt: 2025-03-31 16:23:45 -0400 (Mon, 31 Mar 2025) EndedAt: 2025-03-31 16:24:22 -0400 (Mon, 31 Mar 2025) EllapsedTime: 37.0 seconds RetCode: 0 Status: OK PackageFile: BiocSingular_1.22.0.tar.gz PackageFileSize: 603.4 KiB