Package: BiocSet Version: 1.20.0 Command: chmod a+r BiocSet -R && F:\biocbuild\bbs-3.20-bioc\R\bin\R.exe CMD build --keep-empty-dirs --no-resave-data BiocSet StartedAt: 2025-03-31 17:37:19 -0400 (Mon, 31 Mar 2025) EndedAt: 2025-03-31 17:38:37 -0400 (Mon, 31 Mar 2025) EllapsedTime: 77.6 seconds RetCode: 1 Status: ERROR PackageFile: None PackageFileSize: NA