############################################################################## ############################################################################## ### ### Running command: ### ### /home/biocbuild/R/R/bin/R CMD build --keep-empty-dirs --no-resave-data BiocPkgTools ### ############################################################################## ############################################################################## * checking for file ‘BiocPkgTools/DESCRIPTION’ ... OK * preparing ‘BiocPkgTools’: * checking DESCRIPTION meta-information ... OK * installing the package to build vignettes * creating vignettes ...