Package: BiocPkgTools Version: 1.24.0 Command: rm -rf BiocPkgTools.buildbin-libdir && mkdir BiocPkgTools.buildbin-libdir && /Users/biocbuild/BBS/utils/build-universal.sh BiocPkgTools_1.24.0.tar.gz /Library/Frameworks/R.framework/Resources/bin/R BiocPkgTools.buildbin-libdir StartedAt: 2025-04-01 11:29:01 -0400 (Tue, 01 Apr 2025) EndedAt: 2025-04-01 11:29:27 -0400 (Tue, 01 Apr 2025) EllapsedTime: 26.0 seconds RetCode: 0 Status: OK PackageFile: BiocPkgTools_1.24.0.tgz PackageFileSize: 1.617 MiB