Package: BiocPkgTools Version: 1.24.0 Command: /Library/Frameworks/R.framework/Resources/bin/R CMD build --keep-empty-dirs --no-resave-data BiocPkgTools StartedAt: 2025-03-31 19:29:59 -0400 (Mon, 31 Mar 2025) EndedAt: 2025-03-31 19:33:07 -0400 (Mon, 31 Mar 2025) EllapsedTime: 188.4 seconds RetCode: 0 Status: OK PackageFile: BiocPkgTools_1.24.0.tar.gz PackageFileSize: 1.442 MiB