Package: BiocOncoTK Version: 1.26.0 Command: /home/biocbuild/R/R/bin/R CMD INSTALL BiocOncoTK StartedAt: 2025-03-31 21:07:56 -0000 (Mon, 31 Mar 2025) EndedAt: 2025-03-31 21:09:00 -0000 (Mon, 31 Mar 2025) EllapsedTime: 64.1 seconds RetCode: 0 Status: OK