Package: BiocOncoTK Version: 1.26.0 Command: /home/biocbuild/bbs-3.20-bioc/R/bin/R CMD INSTALL BiocOncoTK StartedAt: 2025-03-31 15:57:49 -0400 (Mon, 31 Mar 2025) EndedAt: 2025-03-31 15:58:42 -0400 (Mon, 31 Mar 2025) EllapsedTime: 52.6 seconds RetCode: 0 Status: OK