Package: BiocOncoTK Version: 1.26.0 Command: /Library/Frameworks/R.framework/Resources/bin/R CMD build --keep-empty-dirs --no-resave-data BiocOncoTK StartedAt: 2025-03-31 17:12:00 -0400 (Mon, 31 Mar 2025) EndedAt: 2025-03-31 17:14:52 -0400 (Mon, 31 Mar 2025) EllapsedTime: 171.3 seconds RetCode: 1 Status: ERROR PackageFile: None PackageFileSize: NA