Package: BiocNeighbors Version: 2.0.1 Command: /home/biocbuild/R/R/bin/R CMD INSTALL BiocNeighbors StartedAt: 2025-03-31 20:12:40 -0000 (Mon, 31 Mar 2025) EndedAt: 2025-03-31 20:13:55 -0000 (Mon, 31 Mar 2025) EllapsedTime: 75.4 seconds RetCode: 0 Status: OK