Package: BiocHubsShiny Version: 1.6.2 Command: rm -rf BiocHubsShiny.buildbin-libdir && mkdir BiocHubsShiny.buildbin-libdir && F:\biocbuild\bbs-3.20-bioc\R\bin\R.exe CMD INSTALL --build --library=BiocHubsShiny.buildbin-libdir BiocHubsShiny_1.6.2.tar.gz StartedAt: 2025-04-01 07:45:08 -0400 (Tue, 01 Apr 2025) EndedAt: 2025-04-01 07:45:39 -0400 (Tue, 01 Apr 2025) EllapsedTime: 31.2 seconds RetCode: 0 Status: OK PackageFile: BiocHubsShiny_1.6.2.zip PackageFileSize: 743.1 KiB