Package: BiocHubsShiny Version: 1.6.2 Command: /Library/Frameworks/R.framework/Resources/bin/R CMD check --install=check:BiocHubsShiny.install-out.txt --library=/Library/Frameworks/R.framework/Resources/library --no-vignettes --timings BiocHubsShiny_1.6.2.tar.gz StartedAt: 2025-04-01 12:06:14 -0400 (Tue, 01 Apr 2025) EndedAt: 2025-04-01 12:08:42 -0400 (Tue, 01 Apr 2025) EllapsedTime: 147.9 seconds RetCode: 0 Status: OK CheckDir: BiocHubsShiny.Rcheck Warnings: 0