Package: BiocHail Version: 1.6.1 Command: /home/biocbuild/R/R/bin/R CMD build --keep-empty-dirs --no-resave-data BiocHail StartedAt: 2025-03-31 21:44:38 -0000 (Mon, 31 Mar 2025) EndedAt: 2025-03-31 21:45:19 -0000 (Mon, 31 Mar 2025) EllapsedTime: 41.0 seconds RetCode: 0 Status: OK PackageFile: BiocHail_1.6.1.tar.gz PackageFileSize: 2.643 MiB