Package: BiocGenerics Version: 0.52.0 Command: /home/biocbuild/R/R/bin/R CMD check --install=check:BiocGenerics.install-out.txt --library=/home/biocbuild/R/R/site-library --no-vignettes --timings BiocGenerics_0.52.0.tar.gz StartedAt: 2025-04-01 04:15:40 -0000 (Tue, 01 Apr 2025) EndedAt: 2025-04-01 04:16:46 -0000 (Tue, 01 Apr 2025) EllapsedTime: 66.2 seconds RetCode: 0 Status: WARNINGS CheckDir: BiocGenerics.Rcheck Warnings: 1