Package: BiocGenerics Version: 0.52.0 Command: chmod a+r BiocGenerics -R && F:\biocbuild\bbs-3.20-bioc\R\bin\R.exe CMD build --keep-empty-dirs --no-resave-data BiocGenerics StartedAt: 2025-03-31 17:36:12 -0400 (Mon, 31 Mar 2025) EndedAt: 2025-03-31 17:36:20 -0400 (Mon, 31 Mar 2025) EllapsedTime: 8.0 seconds RetCode: 0 Status: OK PackageFile: BiocGenerics_0.52.0.tar.gz PackageFileSize: 51.17 KiB