Package: BiocGenerics Version: 0.52.0 Command: rm -rf BiocGenerics.buildbin-libdir && mkdir BiocGenerics.buildbin-libdir && F:\biocbuild\bbs-3.20-bioc\R\bin\R.exe CMD INSTALL --build --library=BiocGenerics.buildbin-libdir BiocGenerics_0.52.0.tar.gz StartedAt: 2025-04-01 07:45:04 -0400 (Tue, 01 Apr 2025) EndedAt: 2025-04-01 07:48:44 -0400 (Tue, 01 Apr 2025) EllapsedTime: 219.9 seconds RetCode: 0 Status: OK PackageFile: BiocGenerics_0.52.0.zip PackageFileSize: 625.5 KiB