Package: BiocGenerics Version: 0.52.0 Command: /Library/Frameworks/R.framework/Resources/bin/R CMD build --keep-empty-dirs --no-resave-data BiocGenerics StartedAt: 2025-03-31 17:11:40 -0400 (Mon, 31 Mar 2025) EndedAt: 2025-03-31 17:11:42 -0400 (Mon, 31 Mar 2025) EllapsedTime: 2.0 seconds RetCode: 0 Status: OK PackageFile: BiocGenerics_0.52.0.tar.gz PackageFileSize: 51.15 KiB