Package: BiocFileCache Version: 2.14.0 Command: /Library/Frameworks/R.framework/Resources/bin/R CMD check --install=check:BiocFileCache.install-out.txt --library=/Library/Frameworks/R.framework/Resources/library --no-vignettes --timings BiocFileCache_2.14.0.tar.gz StartedAt: 2025-04-01 12:04:41 -0400 (Tue, 01 Apr 2025) EndedAt: 2025-04-01 12:06:22 -0400 (Tue, 01 Apr 2025) EllapsedTime: 101.0 seconds RetCode: 0 Status: OK CheckDir: BiocFileCache.Rcheck Warnings: 0