Package: BiocFHIR Version: 1.8.0 Command: /home/biocbuild/R/R/bin/R CMD build --keep-empty-dirs --no-resave-data BiocFHIR StartedAt: 2025-03-31 21:44:18 -0000 (Mon, 31 Mar 2025) EndedAt: 2025-03-31 21:45:00 -0000 (Mon, 31 Mar 2025) EllapsedTime: 42.0 seconds RetCode: 0 Status: OK PackageFile: BiocFHIR_1.8.0.tar.gz PackageFileSize: 4.597 MiB