Package: BiocFHIR Version: 1.8.0 Command: /home/biocbuild/bbs-3.20-bioc/R/bin/R CMD INSTALL BiocFHIR StartedAt: 2025-03-31 15:35:09 -0400 (Mon, 31 Mar 2025) EndedAt: 2025-03-31 15:35:14 -0400 (Mon, 31 Mar 2025) EllapsedTime: 5.3 seconds RetCode: 0 Status: OK