Package: BiocFHIR Version: 1.8.0 Command: /Library/Frameworks/R.framework/Resources/bin/R CMD check --install=check:BiocFHIR.install-out.txt --library=/Library/Frameworks/R.framework/Resources/library --no-vignettes --timings BiocFHIR_1.8.0.tar.gz StartedAt: 2025-03-31 23:50:42 -0400 (Mon, 31 Mar 2025) EndedAt: 2025-03-31 23:53:46 -0400 (Mon, 31 Mar 2025) EllapsedTime: 184.6 seconds RetCode: 0 Status: OK CheckDir: BiocFHIR.Rcheck Warnings: 0