Package: BiocFHIR Version: 1.8.0 Command: /Library/Frameworks/R.framework/Resources/bin/R CMD build --keep-empty-dirs --no-resave-data BiocFHIR StartedAt: 2025-03-31 17:11:21 -0400 (Mon, 31 Mar 2025) EndedAt: 2025-03-31 17:12:48 -0400 (Mon, 31 Mar 2025) EllapsedTime: 87.2 seconds RetCode: 0 Status: OK PackageFile: BiocFHIR_1.8.0.tar.gz PackageFileSize: 4.29 MiB