Package: BiocFHIR Version: 1.8.0 Command: rm -rf BiocFHIR.buildbin-libdir && mkdir BiocFHIR.buildbin-libdir && /Users/biocbuild/BBS/utils/build-universal.sh BiocFHIR_1.8.0.tar.gz /Library/Frameworks/R.framework/Resources/bin/R BiocFHIR.buildbin-libdir StartedAt: 2025-04-01 11:28:51 -0400 (Tue, 01 Apr 2025) EndedAt: 2025-04-01 11:29:09 -0400 (Tue, 01 Apr 2025) EllapsedTime: 17.5 seconds RetCode: 0 Status: OK PackageFile: BiocFHIR_1.8.0.tgz PackageFileSize: 4.294 MiB