Package: BiocFHIR Version: 1.8.0 Command: /Library/Frameworks/R.framework/Resources/bin/R CMD check --install=check:BiocFHIR.install-out.txt --library=/Library/Frameworks/R.framework/Resources/library --no-vignettes --timings BiocFHIR_1.8.0.tar.gz StartedAt: 2025-04-01 12:04:03 -0400 (Tue, 01 Apr 2025) EndedAt: 2025-04-01 12:05:32 -0400 (Tue, 01 Apr 2025) EllapsedTime: 89.0 seconds RetCode: 0 Status: OK CheckDir: BiocFHIR.Rcheck Warnings: 0