Package: BiocCheck Version: 1.42.1 Command: /home/biocbuild/R/R/bin/R CMD INSTALL BiocCheck StartedAt: 2025-03-31 20:25:19 -0000 (Mon, 31 Mar 2025) EndedAt: 2025-03-31 20:25:37 -0000 (Mon, 31 Mar 2025) EllapsedTime: 18.2 seconds RetCode: 0 Status: OK