Package: BiocCheck Version: 1.42.1 Command: /home/biocbuild/R/R/bin/R CMD build --keep-empty-dirs --no-resave-data BiocCheck StartedAt: 2025-03-31 21:44:18 -0000 (Mon, 31 Mar 2025) EndedAt: 2025-03-31 21:44:37 -0000 (Mon, 31 Mar 2025) EllapsedTime: 19.0 seconds RetCode: 0 Status: OK PackageFile: BiocCheck_1.42.1.tar.gz PackageFileSize: 331.8 KiB