Package: BiocCheck Version: 1.42.1 Command: rm -rf BiocCheck.buildbin-libdir && mkdir BiocCheck.buildbin-libdir && F:\biocbuild\bbs-3.20-bioc\R\bin\R.exe CMD INSTALL --build --library=BiocCheck.buildbin-libdir BiocCheck_1.42.1.tar.gz StartedAt: 2025-04-01 07:44:58 -0400 (Tue, 01 Apr 2025) EndedAt: 2025-04-01 07:45:56 -0400 (Tue, 01 Apr 2025) EllapsedTime: 57.4 seconds RetCode: 0 Status: OK PackageFile: BiocCheck_1.42.1.zip PackageFileSize: 650.9 KiB