Package: BiocBaseUtils Version: 1.8.0 Command: /home/biocbuild/R/R/bin/R CMD INSTALL BiocBaseUtils StartedAt: 2025-03-31 20:11:35 -0000 (Mon, 31 Mar 2025) EndedAt: 2025-03-31 20:11:47 -0000 (Mon, 31 Mar 2025) EllapsedTime: 12.7 seconds RetCode: 0 Status: OK