Package: BioTIP Version: 1.20.0 Command: chmod a+r BioTIP -R && F:\biocbuild\bbs-3.20-bioc\R\bin\R.exe CMD build --keep-empty-dirs --no-resave-data BioTIP StartedAt: 2025-03-31 17:39:49 -0400 (Mon, 31 Mar 2025) EndedAt: 2025-03-31 17:43:33 -0400 (Mon, 31 Mar 2025) EllapsedTime: 223.9 seconds RetCode: 0 Status: OK PackageFile: BioTIP_1.20.0.tar.gz PackageFileSize: 40.44 MiB