Package: BioTIP Version: 1.20.0 Command: /Library/Frameworks/R.framework/Resources/bin/R CMD check --install=check:BioTIP.install-out.txt --library=/Library/Frameworks/R.framework/Resources/library --no-vignettes --timings BioTIP_1.20.0.tar.gz StartedAt: 2025-04-01 12:22:37 -0400 (Tue, 01 Apr 2025) EndedAt: 2025-04-01 12:24:27 -0400 (Tue, 01 Apr 2025) EllapsedTime: 110.0 seconds RetCode: 0 Status: WARNINGS CheckDir: BioTIP.Rcheck Warnings: 2