Package: BioTIP Version: 1.20.0 Command: /Library/Frameworks/R.framework/Resources/bin/R CMD build --keep-empty-dirs --no-resave-data BioTIP StartedAt: 2025-03-31 19:38:55 -0400 (Mon, 31 Mar 2025) EndedAt: 2025-03-31 19:41:10 -0400 (Mon, 31 Mar 2025) EllapsedTime: 134.7 seconds RetCode: 0 Status: OK PackageFile: BioTIP_1.20.0.tar.gz PackageFileSize: 41.58 MiB