Package: BioNet Version: 1.66.0 Command: /Library/Frameworks/R.framework/Resources/bin/R CMD INSTALL BioNet StartedAt: 2025-03-31 15:25:17 -0400 (Mon, 31 Mar 2025) EndedAt: 2025-03-31 15:25:47 -0400 (Mon, 31 Mar 2025) EllapsedTime: 30.5 seconds RetCode: 0 Status: OK