Package: BioNet Version: 1.66.0 Command: /Library/Frameworks/R.framework/Resources/bin/R CMD check --install=check:BioNet.install-out.txt --library=/Library/Frameworks/R.framework/Resources/library --no-vignettes --timings BioNet_1.66.0.tar.gz StartedAt: 2025-04-01 12:17:13 -0400 (Tue, 01 Apr 2025) EndedAt: 2025-04-01 12:20:01 -0400 (Tue, 01 Apr 2025) EllapsedTime: 167.8 seconds RetCode: 0 Status: OK CheckDir: BioNet.Rcheck Warnings: 0