Package: BioNERO Version: 1.14.0 Command: /home/biocbuild/R/R/bin/R CMD check --install=check:BioNERO.install-out.txt --library=/home/biocbuild/R/R/site-library --no-vignettes --timings BioNERO_1.14.0.tar.gz StartedAt: 2025-04-01 04:33:46 -0000 (Tue, 01 Apr 2025) EndedAt: 2025-04-01 04:42:15 -0000 (Tue, 01 Apr 2025) EllapsedTime: 509.6 seconds RetCode: 0 Status: OK CheckDir: BioNERO.Rcheck Warnings: 0