Package: BioNERO Version: 1.14.0 Command: /home/biocbuild/R/R/bin/R CMD build --keep-empty-dirs --no-resave-data BioNERO StartedAt: 2025-03-31 21:49:29 -0000 (Mon, 31 Mar 2025) EndedAt: 2025-03-31 21:55:11 -0000 (Mon, 31 Mar 2025) EllapsedTime: 342.1 seconds RetCode: 0 Status: OK PackageFile: BioNERO_1.14.0.tar.gz PackageFileSize: 3.957 MiB