Package: BioNERO Version: 1.14.0 Command: /home/biocbuild/bbs-3.20-bioc/R/bin/R CMD INSTALL BioNERO StartedAt: 2025-03-31 15:55:53 -0400 (Mon, 31 Mar 2025) EndedAt: 2025-03-31 15:56:27 -0400 (Mon, 31 Mar 2025) EllapsedTime: 34.1 seconds RetCode: 0 Status: OK